BEGIN:VCALENDAR
VERSION:2.0
PRODID:-//Friends of Jupiter Beach - ECPv6.15.20//NONSGML v1.0//EN
CALSCALE:GREGORIAN
METHOD:PUBLISH
X-ORIGINAL-URL:https://friendsofjupiterbeach.org
X-WR-CALDESC:Events for Friends of Jupiter Beach
REFRESH-INTERVAL;VALUE=DURATION:PT1H
X-Robots-Tag:noindex
X-PUBLISHED-TTL:PT1H
BEGIN:VTIMEZONE
TZID:UTC
BEGIN:STANDARD
TZOFFSETFROM:+0000
TZOFFSETTO:+0000
TZNAME:UTC
DTSTART:20240101T000000
END:STANDARD
END:VTIMEZONE
BEGIN:VEVENT
DTSTART;TZID=UTC:20250104T080000
DTEND;TZID=UTC:20250104T100000
DTSTAMP:20260421T115407
CREATED:20241119T210925Z
LAST-MODIFIED:20241212T195549Z
UID:1528-1735977600-1735984800@friendsofjupiterbeach.org
SUMMARY:January Beach Cleanup 2025
DESCRIPTION:We invite you to be part of our next beach cleanup with Friends of Jupiter Beach! This is a fantastic opportunity to make a positive impact on our beautiful coastline\, meet new friends\, and enjoy a fun and fulfilling afternoon.\nTHANK YOU TO LOGGERHEAD FITNESS FOR BEING OUR JANUARY SPONSOR! \nWhen: Saturday\, January 4th\, from 8:00am – 10:00am \nWhere: Ocean Cay Park\, southeast corner of US Hwy. 1 at 2188 Marcinski Road (north of Donald Ross Rd.\, south of Indiantown Rd.) Anita Lankler Pavilion\, which faces the beach road. \nWHAT HAPPENS:   We clean a 2 ½ mile stretch from the Juno Beach Pier to the southern edge of Carlin Park (crossovers 22-59). Return before 9:30 am\, enjoy a variety of breakfast foods\, drinks\, old & new friends\, and FREE PRIZES! \nBeach cleanups are canceled in rain or dangerous weather.Cancellation notices will be posted on our Facebook page: https://www.facebook.com/FriendsofJupiterBeach \nIf canceled\, no rescheduling\, see you next month! \nWHAT TO DO WHEN YOU ARRIVE: \nSign in & get your free prize ticket \nGrab your gloves\, grabbers & small bags\, provided by us \nJoin a team \nFollow Team Captain (orange shirts) instructions for cleanup areas.  Some sections require driving\, some sections require walking \nClean on the beach\, along walkways\, under crossovers\, in parking areas\, in the park\, etc. We separate recyclables.   Please follow the Friends of Jupiter Beach Volunteer Code of Safety. \nOrganized groups must contact us at hello@friendsofjupiterbeach.org. Our group coordinator will be happy to provide additional information. \nADDITIONAL INFORMATION: \nARRIVE WEARING: Closed-toe shoes\, hats\, sunscreen\, bug spray—NO FLIP FLOPS.  Protect arms and legs. \nLEAVE BAGS BY THE TRASHCANS ON THE SIDEWALK; not on the beach or the road.  Help Team Captains dump into large black bags or blue recyclable bags. \nREGISTRATION: There is no need for individuals to register in advance. STUDENTS desiring school community service credit MUST check in by 8 am sharp to receive 2 hours CS credit. To ensure great volunteer experiences for every individual\, we must limit group size to 25.
URL:https://friendsofjupiterbeach.org/event/january-beach-cleanup-2025/
LOCATION:Ocean Cay Park\, 2188 Marcinski Rd\, Jupiter\, Florida
CATEGORIES:Beach Cleanup
ATTACH;FMTTYPE=image/jpeg:https://friendsofjupiterbeach.org/wp-content/uploads/2024/11/Friends-of-Jupiter-Beach-Day_HI0A1778-LR-web.jpg
END:VEVENT
BEGIN:VEVENT
DTSTART;TZID=UTC:20250119T150000
DTEND;TZID=UTC:20250119T170000
DTSTAMP:20260421T115407
CREATED:20241231T165209Z
LAST-MODIFIED:20241231T170046Z
UID:1640-1737298800-1737306000@friendsofjupiterbeach.org
SUMMARY:January 2025 Young Friends Beach Cleanup
DESCRIPTION:We invite you to be part of our next Young Friends Beach Cleanup with Friends of Jupiter Beach! This is a fantastic opportunity to make a positive impact on our beautiful coastline\, meet new friends\, and enjoy a fun and fulfilling afternoon.\nWhen: Sunday\, January 19th from 3:00 pm – 5:00 pm \nWhere: Ocean Cay Park\, southeast corner of US Hwy. 1 at 2188 Marcinski Road (north of Donald Ross Rd.\, south of Indiantown Rd.) Anita Lankler Pavilion\, which faces the beach road. \nWhat Happens: Students will clean a 2 ½ mile stretch from the Juno Beach Pier to the southern edge of Carlin Park (crossovers 22-59). Beach cleanups are canceled in rain or dangerous weather. If canceled\, no rescheduling—see you next month! \nWhat to Do When You Arrive: Grab your gloves\, grabbers\, and small bags\, which are provided by us. Join a team and follow the instructions of Team Captains (in orange shirts) for cleanup areas. Some sections require driving\, while others require walking. Clean on the beach\, along walkways\, under crossovers\, in parking areas\, and in the park. Recyclables are separated\, so please follow the Friends of Jupiter Beach Volunteer Code of Safety. Organized groups must contact us at hello@friendsofjupiterbeach.org. \nAdditional Information: Arrive wearing closed-toe shoes\, hats\, sunscreen\, and bug spray. No flip-flops allowed. Protect your arms and legs. Leave bags by the trashcans on the sidewalk\, not on the beach or the road. Help Team Captains dump trash into large black bags or blue recyclable bags. \nRegistration: Students desiring school community service credit must check in by 3:00 pm sharp to receive credit. Organized groups should call at least two weeks ahead of time\, and we will return the call to confirm the cleanup date.
URL:https://friendsofjupiterbeach.org/event/january-2025-young-friends-beach-cleanup/
LOCATION:Ocean Cay Park\, 2188 Marcinski Rd\, Jupiter\, Florida
CATEGORIES:Young Friends
ATTACH;FMTTYPE=image/jpeg:https://friendsofjupiterbeach.org/wp-content/uploads/2024/11/Friends-of-Jupiter-Beach-Day_HI0A1799-LR-web.jpg
END:VEVENT
BEGIN:VEVENT
DTSTART;TZID=UTC:20250131T180000
DTEND;TZID=UTC:20250131T220000
DTSTAMP:20260421T115408
CREATED:20241212T210210Z
LAST-MODIFIED:20241212T210210Z
UID:1620-1738346400-1738360800@friendsofjupiterbeach.org
SUMMARY:Friends of Jupiter Beach Cocktails by the Sea Fundraiser 2025
DESCRIPTION:Janaury 31\, 2025 @ The Jupiter Civic Center\nLEARN MORE & PURCHASE TICKETS HERE!\n“Cocktails by the Sea” is a dazzling fundraiser hosted by Friends of Jupiter Beach! Attendees can immerse themselves in the coastal magic with vibrant concoctions and food fare from local purveyors on the scenic Jupiter Beach!\nThis 21 and over extravaganza promises an evening of pure delight\, filled with captivating cocktail presentations and perfect pairings. Every sip and bite contribute to the cause\, as all proceeds will propel Friends of Jupiter Beach in their mission to keep our shores pristine and dog-friendly. Let’s make waves and have a blast for a great cause!\nOur current participants include:\nMunyon’s Paw Paw\nHard Truth Distilling Co.\nNoxx & Dunn\nRosaluna\nEl Bandido Yankee\nChainBridge Distillery
URL:https://friendsofjupiterbeach.org/event/friends-of-jupiter-beach-cocktails-by-the-sea-fundraiser-2025/
LOCATION:Jupiter Civic Center\, 351 Old A1A\, Jupiter\, FL\, United States
CATEGORIES:Fundraiser Events
ATTACH;FMTTYPE=image/png:https://friendsofjupiterbeach.org/wp-content/uploads/2024/12/Friends-of-Jupiter-Beach-Cocktails-by-the-Sea-Fundraiser-2025.png
END:VEVENT
END:VCALENDAR